Workbook
Name _ftn1: Sheet1!$D$6
Name _ftn1: 'Sheet1 (2)'!#REF!
Name _ftn1: 'Sheet1 (3)'!#REF!
Name _ftn1: 'Sheet1 (4)'!#REF!
Name _ftn1: 'Sheet1 (5)'!#REF!
Name _ftn1: 'Sheet1 (6)'!#REF!
Name _ftn1: 'Sheet1 (7)'!#REF!
Name _ftn2: Sheet2!$C$89
Name _ftn2: 'Sheet2 (2)'!$C$89
Name _ftn3: Sheet2!$C$90
Name _ftn3: 'Sheet2 (2)'!$C$90
Name _ftnref1: Sheet1!#REF!
Name _ftnref1: 'Sheet1 (2)'!#REF!
Name _ftnref1: 'Sheet1 (3)'!#REF!
Name _ftnref1: 'Sheet1 (4)'!#REF!
Name _ftnref1: 'Sheet1 (5)'!#REF!
Name _ftnref1: 'Sheet1 (6)'!#REF!
Name _ftnref1: 'Sheet1 (7)'!#REF!
Name _ftnref2: Sheet2!$I$67
Name _ftnref2: 'Sheet2 (2)'!$I$70
Name _ftnref3: Sheet2!#REF!
Name _ftnref3: 'Sheet2 (2)'!#REF!
Name OLE_LINK47: Sheet1!#REF!
Name OLE_LINK47: 'Sheet1 (2)'!#REF!
Name OLE_LINK47: 'Sheet1 (3)'!#REF!
Name OLE_LINK47: 'Sheet1 (4)'!#REF!
Name OLE_LINK47: 'Sheet1 (5)'!#REF!
Name OLE_LINK47: 'Sheet1 (6)'!$E$23
Name OLE_LINK47: 'Sheet1 (7)'!#REF!
Name OLE_LINK59: Sheet1!$E$23
Name OLE_LINK59: 'Sheet1 (2)'!#REF!
Name OLE_LINK59: 'Sheet1 (3)'!#REF!
Name OLE_LINK59: 'Sheet1 (4)'!#REF!
Name OLE_LINK59: 'Sheet1 (5)'!#REF!
Name OLE_LINK59: 'Sheet1 (6)'!#REF!
Name OLE_LINK59: 'Sheet1 (7)'!#REF!
Name OLE_LINK9: Sheet1!$D$6
Name OLE_LINK9: 'Sheet1 (2)'!#REF!
Name OLE_LINK9: 'Sheet1 (3)'!#REF!
Name OLE_LINK9: 'Sheet1 (4)'!#REF!
Name OLE_LINK9: 'Sheet1 (5)'!#REF!
Name OLE_LINK9: 'Sheet1 (6)'!#REF!
Name OLE_LINK9: 'Sheet1 (7)'!#REF!

Sheet Sheet4
AE1: √
L2: Evaluation Instrument of Medical Specialist Training
K3: Malaysian Medical Council (MMC)
L4: **Notification to HEPs: The Grade and Result shown here are for self-review purposes only.
F6: Name of Programme | I6: ='Sheet4 (2)'!H7 -> 0
F8: MQF Level | I8: ='Sheet4 (2)'!H24 -> 0
F10: Name of Institution | I10: ='Sheet4 (2)'!H17 -> 0
F12: Accreditation level | H12: =IFERROR(IF(J12=AE1,21,IF(N12=AE1,22,"ERROR")),"ERROR") -> ERROR | I12: Full | J12: =IF('Sheet4 (2)'!H13="Full Accreditation (FA)","√","") | L12: Provisional | N12: =IF('Sheet4 (2)'!H13="Provisional Accreditation (PA)","√","") | T12: ='Sheet4 (2)'!Q13 -> #N/A
F14: SUMMARY OF HEP EVALUATION
K15: No.of AL1/AL2 | M15: No.of AL3 | O15: No.of AL4/AL5 | Q15: No.of Stds. Eval. | S15: No.of Stds. | T15: Weightage | U15: Max.Score | V15: Score | X15: =IF('Sheet4 (2)'!Q13=1,"",IF(G34="F","","Weighted Score")) -> #N/A
F16: Area 1 | G16: Programme development and delivery | K16: =Sheet2!K5 -> 0 | M16: =Sheet2!G5 -> 0 | N16: =IF(Sheet2!J5=FALSE,"**","") | O16: =Sheet2!L5 -> 0 | Q16: =Sheet2!D5 -> 0 | S16: 18 | T16: =IF(J12=AE1,Sheet2!P5,IF(N12=AE1,Sheet2!O5,"")) | U16: =Q16*5 -> 0 | V16: =Sheet2!Z5 -> 0 | X16: =IF('Sheet4 (2)'!Q13=1,"",IF(G34="F","",(IF(J12=AE1,Sheet2!AC5,IF(N12=AE1,Sheet2!AB5,""))))) -> #N/A | AE16: AREA1 | AF16: =IF(J12=AE1,Sheet2!E5,IF(N12=AE1,Sheet2!T5,"")) | AG16: =IF(J12=AE1,Sheet2!F5,IF(N12=AE1,Sheet2!U5,"")) | AH16: =IF(J12=AE1,Sheet2!G5,IF(N12=AE1,Sheet2!V5,"")) | AI16: =IF(J12=AE1,Sheet2!H5,IF(N12=AE1,Sheet2!W5,"")) | AJ16: =IF(J12=AE1,Sheet2!I5,IF(N12=AE1,Sheet2!X5,""))
AE17: AREA2 | AF17: =IF(J13=AE2,Sheet2!E6,IF(N13=AE2,Sheet2!T6,"")) -> 0 | AG17: =IF(J13=AE2,Sheet2!F6,IF(N13=AE2,Sheet2!U6,"")) -> 0 | AH17: =IF(J13=AE2,Sheet2!G6,IF(N13=AE2,Sheet2!V6,"")) -> 0 | AI17: =IF(J13=AE2,Sheet2!H6,IF(N13=AE2,Sheet2!W6,"")) -> 0 | AJ17: =IF(J13=AE2,Sheet2!I6,IF(N13=AE2,Sheet2!X6,"")) -> 0
F18: Area 2 | G18: Assessment of student learning | K18: =Sheet2!K6 -> 0 | M18: =Sheet2!G6 -> 0 | N18: =IF(Sheet2!J6=FALSE,"**","") | O18: =Sheet2!L6 -> 0 | Q18: =Sheet2!D6 -> 0 | S18: 16 | T18: =IF(J12=AE1,Sheet2!P6,IF(N12=AE1,Sheet2!O6,"")) | U18: =Q18*5 -> 0 | V18: =Sheet2!Z6 -> 0 | X18: =IF('Sheet4 (2)'!Q13=1,"",IF(G34="F","",(IF(J12=AE1,Sheet2!AC6,IF(N12=AE1,Sheet2!AB6,""))))) -> #N/A | AE18: AREA3 | AF18: =IF(J14=AE3,Sheet2!E7,IF(N14=AE3,Sheet2!T7,"")) -> 0 | AG18: =IF(J14=AE3,Sheet2!F7,IF(N14=AE3,Sheet2!U7,"")) -> 0 | AH18: =IF(J14=AE3,Sheet2!G7,IF(N14=AE3,Sheet2!V7,"")) -> 0 | AI18: =IF(J14=AE3,Sheet2!H7,IF(N14=AE3,Sheet2!W7,"")) -> 0 | AJ18: =IF(J14=AE3,Sheet2!I7,IF(N14=AE3,Sheet2!X7,"")) -> 0
AE19: AREA4 | AF19: =IF(J15=AE4,Sheet2!E8,IF(N15=AE4,Sheet2!T8,"")) -> 0 | AG19: =IF(J15=AE4,Sheet2!F8,IF(N15=AE4,Sheet2!U8,"")) -> 0 | AH19: =IF(J15=AE4,Sheet2!G8,IF(N15=AE4,Sheet2!V8,"")) -> 0 | AI19: =IF(J15=AE4,Sheet2!H8,IF(N15=AE4,Sheet2!W8,"")) -> 0 | AJ19: =IF(J15=AE4,Sheet2!I8,IF(N15=AE4,Sheet2!X8,"")) -> 0
F20: Area 3 | G20: Student selection and support services | K20: =Sheet2!K7 -> 0 | M20: =Sheet2!G7 -> 0 | N20: =IF(Sheet2!J7=FALSE,"**","") | O20: =Sheet2!L7 -> 0 | Q20: =Sheet2!D7 -> 0 | S20: 15 | T20: =IF(J12=AE1,Sheet2!P7,IF(N12=AE1,Sheet2!O7,"")) | U20: =Q20*5 -> 0 | V20: =Sheet2!Z7 -> 0 | X20: =IF('Sheet4 (2)'!Q13=1,"",IF(G34="F","",(IF(J12=AE1,Sheet2!AC7,IF(N12=AE1,Sheet2!AB7,""))))) -> #N/A | AE20: AREA5 | AF20: =IF(J16=AE5,Sheet2!E9,IF(N16=AE5,Sheet2!T9,"")) -> 0 | AG20: =IF(J16=AE5,Sheet2!F9,IF(N16=AE5,Sheet2!U9,"")) -> 0 | AH20: =IF(J16=AE5,Sheet2!G9,IF(N16=AE5,Sheet2!V9,"")) -> 0 | AI20: =IF(J16=AE5,Sheet2!H9,IF(N16=AE5,Sheet2!W9,"")) -> 0 | AJ20: =IF(J16=AE5,Sheet2!I9,IF(N16=AE5,Sheet2!X9,"")) -> 0
AE21: AREA6 | AF21: =IF(J17=AE6,Sheet2!E10,IF(N17=AE6,Sheet2!T10,"")) -> 0 | AG21: =IF(J17=AE6,Sheet2!F10,IF(N17=AE6,Sheet2!U10,"")) -> 0 | AH21: =IF(J17=AE6,Sheet2!G10,IF(N17=AE6,Sheet2!V10,"")) -> 0 | AI21: =IF(J17=AE6,Sheet2!H10,IF(N17=AE6,Sheet2!W10,"")) -> 0 | AJ21: =IF(J17=AE6,Sheet2!I10,IF(N17=AE6,Sheet2!X10,"")) -> 0
F22: Area 4 | G22: Academic staff | K22: =Sheet2!K8 -> 0 | M22: =Sheet2!G8 -> 0 | N22: =IF(Sheet2!J8=FALSE,"**","") | O22: =Sheet2!L8 -> 0 | Q22: =Sheet2!D8 -> 0 | S22: 11 | T22: =IF(J12=AE1,Sheet2!P8,IF(N12=AE1,Sheet2!O8,"")) | U22: =Q22*5 -> 0 | V22: =Sheet2!Z8 -> 0 | X22: =IF('Sheet4 (2)'!Q13=1,"",IF(G34="F","",(IF(J12=AE1,Sheet2!AC8,IF(N12=AE1,Sheet2!AB8,""))))) -> #N/A | AE22: AREA7 | AF22: =IF(J18=AE7,Sheet2!E11,IF(N18=AE7,Sheet2!T11,"")) -> 0 | AG22: =IF(J18=AE7,Sheet2!F11,IF(N18=AE7,Sheet2!U11,"")) -> 0 | AH22: =IF(J18=AE7,Sheet2!G11,IF(N18=AE7,Sheet2!V11,"")) -> 0 | AI22: =IF(J18=AE7,Sheet2!H11,IF(N18=AE7,Sheet2!W11,"")) -> 0 | AJ22: =IF(J18=AE7,Sheet2!I11,IF(N18=AE7,Sheet2!X11,"")) -> 0
F24: Area 5 | G24: Educational resources | K24: =Sheet2!K9 -> 0 | M24: =Sheet2!G9 -> 0 | N24: =IF(Sheet2!J9=FALSE,"**","") | O24: =Sheet2!L9 -> 0 | Q24: =Sheet2!D9 -> 0 | S24: 9 | T24: =IF(J12=AE1,Sheet2!P9,IF(N12=AE1,Sheet2!O9,"")) | U24: =Q24*5 -> 0 | V24: =Sheet2!Z9 -> 0 | X24: =IF('Sheet4 (2)'!Q13=1,"",IF(G34="F","",(IF(J12=AE1,Sheet2!AC9,IF(N12=AE1,Sheet2!AB9,""))))) -> #N/A
F26: Area 6 | G26: Programme management | K26: =Sheet2!K10 -> 0 | M26: =Sheet2!G10 -> 0 | N26: =IF(Sheet2!J10=FALSE,"**","") | O26: =Sheet2!L10 -> 0 | Q26: =Sheet2!D10 -> 0 | S26: 15 | T26: =IF(J12=AE1,Sheet2!P10,IF(N12=AE1,Sheet2!O10,"")) | U26: =Q26*5 -> 0 | V26: =Sheet2!Z10 -> 0 | X26: =IF('Sheet4 (2)'!Q13=1,"",IF(G34="F","",(IF(J12=AE1,Sheet2!AC10,IF(N12=AE1,Sheet2!AB10,""))))) -> #N/A
F28: Area 7 | G28: Programme monitoring, review and | K28: =Sheet2!K11 -> 0 | M28: =Sheet2!G11 -> 0 | N28: =IF(Sheet2!J11=FALSE,"**","") | O28: =Sheet2!L11 -> 0 | Q28: =Sheet2!D11 -> 0 | S28: 5 | T28: =IF(J12=AE1,Sheet2!P11,IF(N12=AE1,Sheet2!O11,"")) | U28: =Q28*5 -> 0 | V28: =Sheet2!Z11 -> 0 | X28: =IF('Sheet4 (2)'!Q13=1,"",IF(G34="F","",(IF(J12=AE1,Sheet2!AC11,IF(N12=AE1,Sheet2!AB11,""))))) -> #N/A
G29: Continual quality improvement
I30: TOTAL | K30: =SUM(K16:K28) -> 0 | M30: =SUM(M16:M28) -> 0 | O30: =SUM(O16:O28) -> 0 | Q30: =SUM(Q16:Q28) -> 0 | S30: 89 | T30: =SUM(T16:T28) -> 0 | X30: =IF('Sheet4 (2)'!Q13=1,"",IF(G34="F","",SUM(X16:X28))) -> #N/A
F34: GRADE | G34: =IF('Sheet4 (2)'!Q13=1,"",IF(J12=AE1,Sheet2!AC15,IF(N12=AE1,Sheet2!O15,"ERROR"))) -> #N/A | H34: =IF('Sheet4 (2)'!Q13=1,"",IF(G34="F","",(IF(J12=AE1,Sheet2!AC13,IF(N12=AE1,Sheet2!AB13,""))))) -> #N/A | I34: =IF('Sheet4 (2)'!Q13=1,"",IF(G34="F","","%")) -> #N/A | K34: =IF('Sheet4 (2)'!Q13=1,"",IF(J12=AE1,Sheet2!AD15,VLOOKUP(G34,Sheet2!C29:F31,2))) -> #N/A
F36: RESULTS | G36: =IF('Sheet4 (2)'!Q13=1,"",IF(J12=AE1,Sheet2!AE15,VLOOKUP(G34,Sheet2!C29:F31,3))) -> #N/A
G38: "F"=Fail, "P"=Pass, "P*"=Pass with condition, "PA"=Provisional Accreditation, "FA"=Full Accreditation
G39: =IF(Sheet2!D13="ERROR","ERROR",IF(J12=AE1,Sheet2!AF15,VLOOKUP(G34,Sheet2!C29:F31,4))) -> #N/A
F48: SUMMARY OF POA EVALUATION
K49: No.of AL1/AL2 | M49: No.of AL3 | O49: No.of AL4/AL5 | Q49: No.of Standards | S49: No.of Stds. | T49: Weightage | U49: Max.Score | V49: Score | X49: Weighted Score
F50: Area 1 | G50: Programme development and delivery | K50: ='Sheet2 (2)'!K5 -> 0 | M50: ='Sheet2 (2)'!G5 -> 0 | N50: =IF('Sheet2 (2)'!J5=FALSE,"**","") | O50: ='Sheet2 (2)'!L5 -> 0 | Q50: ='Sheet2 (2)'!D5 -> 0 | S50: 18 | T50: ='Sheet2 (2)'!P5 -> 25 | U50: =Q50*5 -> 0 | V50: ='Sheet2 (2)'!Z5 -> 0 | X50: ='Sheet2 (2)'!AC5 -> #DIV/0! | AE50: AREA1 | AF50: =IF(J12=AE1,'Sheet2 (2)'!E5,IF(N12=AE1,'Sheet2 (2)'!T5,"")) | AG50: =IF(J12=AE1,'Sheet2 (2)'!F5,IF(N12=AE1,'Sheet2 (2)'!U5,"")) | AH50: =IF(J12=AE1,'Sheet2 (2)'!G5,IF(N12=AE1,'Sheet2 (2)'!V5,"")) | AI50: =IF(J12=AE1,'Sheet2 (2)'!H5,IF(N12=AE1,'Sheet2 (2)'!W5,"")) | AJ50: =IF(J12=AE1,'Sheet2 (2)'!I5,IF(N12=AE1,'Sheet2 (2)'!X5,""))
AE51: AREA2 | AF51: =IF(J13=AE2,'Sheet2 (2)'!E6,IF(N13=AE2,'Sheet2 (2)'!T6,"")) -> 0 | AG51: =IF(J13=AE2,'Sheet2 (2)'!F6,IF(N13=AE2,'Sheet2 (2)'!U6,"")) -> 0 | AH51: =IF(J13=AE2,'Sheet2 (2)'!G6,IF(N13=AE2,'Sheet2 (2)'!V6,"")) -> 0 | AI51: =IF(J13=AE2,'Sheet2 (2)'!H6,IF(N13=AE2,'Sheet2 (2)'!W6,"")) -> 0 | AJ51: =IF(J13=AE2,'Sheet2 (2)'!I6,IF(N13=AE2,'Sheet2 (2)'!X6,"")) -> 0
F52: Area 2 | G52: Assessment of student learning | K52: ='Sheet2 (2)'!K6 -> 0 | M52: ='Sheet2 (2)'!G6 -> 0 | N52: =IF('Sheet2 (2)'!J6=FALSE,"**","") | O52: ='Sheet2 (2)'!L6 -> 0 | Q52: ='Sheet2 (2)'!D6 -> 0 | S52: 16 | T52: ='Sheet2 (2)'!P6 -> 15 | U52: =Q52*5 -> 0 | V52: ='Sheet2 (2)'!Z6 -> 0 | X52: ='Sheet2 (2)'!AC6 -> #DIV/0! | AE52: AREA3 | AF52: =IF(J14=AE3,'Sheet2 (2)'!E7,IF(N14=AE3,'Sheet2 (2)'!T7,"")) -> 0 | AG52: =IF(J14=AE3,'Sheet2 (2)'!F7,IF(N14=AE3,'Sheet2 (2)'!U7,"")) -> 0 | AH52: =IF(J14=AE3,'Sheet2 (2)'!G7,IF(N14=AE3,'Sheet2 (2)'!V7,"")) -> 0 | AI52: =IF(J14=AE3,'Sheet2 (2)'!H7,IF(N14=AE3,'Sheet2 (2)'!W7,"")) -> 0 | AJ52: =IF(J14=AE3,'Sheet2 (2)'!I7,IF(N14=AE3,'Sheet2 (2)'!X7,"")) -> 0
AE53: AREA4 | AF53: =IF(J15=AE4,'Sheet2 (2)'!E8,IF(N15=AE4,'Sheet2 (2)'!T8,"")) -> 0 | AG53: =IF(J15=AE4,'Sheet2 (2)'!F8,IF(N15=AE4,'Sheet2 (2)'!U8,"")) -> 0 | AH53: =IF(J15=AE4,'Sheet2 (2)'!G8,IF(N15=AE4,'Sheet2 (2)'!V8,"")) -> 0 | AI53: =IF(J15=AE4,'Sheet2 (2)'!H8,IF(N15=AE4,'Sheet2 (2)'!W8,"")) -> 0 | AJ53: =IF(J15=AE4,'Sheet2 (2)'!I8,IF(N15=AE4,'Sheet2 (2)'!X8,"")) -> 0
F54: Area 3 | G54: Student selection and support services | K54: ='Sheet2 (2)'!K7 -> 0 | M54: ='Sheet2 (2)'!G7 -> 0 | N54: =IF('Sheet2 (2)'!J7=FALSE,"**","") | O54: ='Sheet2 (2)'!L7 -> 0 | Q54: ='Sheet2 (2)'!D7 -> 0 | S54: 15 | T54: ='Sheet2 (2)'!P7 -> 10 | U54: =Q54*5 -> 0 | V54: ='Sheet2 (2)'!Z7 -> 0 | X54: ='Sheet2 (2)'!AC7 -> #DIV/0! | AE54: AREA5 | AF54: =IF(J16=AE5,'Sheet2 (2)'!E9,IF(N16=AE5,'Sheet2 (2)'!T9,"")) -> 0 | AG54: =IF(J16=AE5,'Sheet2 (2)'!F9,IF(N16=AE5,'Sheet2 (2)'!U9,"")) -> 0 | AH54: =IF(J16=AE5,'Sheet2 (2)'!G9,IF(N16=AE5,'Sheet2 (2)'!V9,"")) -> 0 | AI54: =IF(J16=AE5,'Sheet2 (2)'!H9,IF(N16=AE5,'Sheet2 (2)'!W9,"")) -> 0 | AJ54: =IF(J16=AE5,'Sheet2 (2)'!I9,IF(N16=AE5,'Sheet2 (2)'!X9,"")) -> 0
AE55: AREA6 | AF55: =IF(J17=AE6,'Sheet2 (2)'!E10,IF(N17=AE6,'Sheet2 (2)'!T10,"")) -> 0 | AG55: =IF(J17=AE6,'Sheet2 (2)'!F10,IF(N17=AE6,'Sheet2 (2)'!U10,"")) -> 0 | AH55: =IF(J17=AE6,'Sheet2 (2)'!G10,IF(N17=AE6,'Sheet2 (2)'!V10,"")) -> 0 | AI55: =IF(J17=AE6,'Sheet2 (2)'!H10,IF(N17=AE6,'Sheet2 (2)'!W10,"")) -> 0 | AJ55: =IF(J17=AE6,'Sheet2 (2)'!I10,IF(N17=AE6,'Sheet2 (2)'!X10,"")) -> 0
F56: Area 4 | G56: Academic staff | K56: ='Sheet2 (2)'!K8 -> 0 | M56: ='Sheet2 (2)'!G8 -> 0 | N56: =IF('Sheet2 (2)'!J8=FALSE,"**","") | O56: ='Sheet2 (2)'!L8 -> 0 | Q56: ='Sheet2 (2)'!D8 -> 0 | S56: 11 | T56: ='Sheet2 (2)'!P8 -> 15 | U56: =Q56*5 -> 0 | V56: ='Sheet2 (2)'!Z8 -> 0 | X56: ='Sheet2 (2)'!AC8 -> #DIV/0! | AE56: AREA7 | AF56: =IF(J18=AE7,'Sheet2 (2)'!E11,IF(N18=AE7,'Sheet2 (2)'!T11,"")) -> 0 | AG56: =IF(J18=AE7,'Sheet2 (2)'!F11,IF(N18=AE7,'Sheet2 (2)'!U11,"")) -> 0 | AH56: =IF(J18=AE7,'Sheet2 (2)'!G11,IF(N18=AE7,'Sheet2 (2)'!V11,"")) -> 0 | AI56: =IF(J18=AE7,'Sheet2 (2)'!H11,IF(N18=AE7,'Sheet2 (2)'!W11,"")) -> 0 | AJ56: =IF(J18=AE7,'Sheet2 (2)'!I11,IF(N18=AE7,'Sheet2 (2)'!X11,"")) -> 0
F58: Area 5 | G58: Educational resources | K58: ='Sheet2 (2)'!K9 -> 0 | M58: ='Sheet2 (2)'!G9 -> 0 | N58: =IF('Sheet2 (2)'!J9=FALSE,"**","") | O58: ='Sheet2 (2)'!L9 -> 0 | Q58: ='Sheet2 (2)'!D9 -> 0 | S58: 9 | T58: ='Sheet2 (2)'!P9 -> 15 | U58: =Q58*5 -> 0 | V58: ='Sheet2 (2)'!Z9 -> 0 | X58: ='Sheet2 (2)'!AC9 -> #DIV/0!
F60: Area 6 | G60: Programme management | K60: ='Sheet2 (2)'!K10 -> 0 | M60: ='Sheet2 (2)'!G10 -> 0 | N60: =IF('Sheet2 (2)'!J10=FALSE,"**","") | O60: ='Sheet2 (2)'!L10 -> 0 | Q60: ='Sheet2 (2)'!D10 -> 0 | S60: 15 | T60: ='Sheet2 (2)'!P10 -> 10 | U60: =Q60*5 -> 0 | V60: ='Sheet2 (2)'!Z10 -> 0 | X60: ='Sheet2 (2)'!AC10 -> #DIV/0!
F62: Area 7 | G62: Programme monitoring, review and | K62: ='Sheet2 (2)'!K11 -> 0 | M62: ='Sheet2 (2)'!G11 -> 0 | N62: =IF('Sheet2 (2)'!J11=FALSE,"**","") | O62: ='Sheet2 (2)'!L11 -> 0 | Q62: ='Sheet2 (2)'!D11 -> 0 | S62: 5 | T62: ='Sheet2 (2)'!P11 -> 10 | U62: =Q62*5 -> 0 | V62: ='Sheet2 (2)'!Z11 -> 0 | X62: ='Sheet2 (2)'!AC11 -> #DIV/0!
G63: Continual quality improvement
I64: TOTAL | K64: =SUM(K50:K62) -> 0 | M64: =SUM(M50:M62) -> 0 | O64: =SUM(O50:O62) -> 0 | Q64: =SUM(Q50:Q62) -> 0 | S64: 89 | T64: =SUM(T50:T62) -> 100 | X64: =SUM(X50:X62) -> #DIV/0!
...

Sheet Sheet4 (2)
F2: Evaluation Instrument for Medical Specialist Training Programme | BA2: Non-MQF
I3: Malaysian Medical Council (MMC) | BA3: Level 1
BA4: Level 2
BA5: Level 3
BA6: Level 4
E7: Name of Programme | BA7: Level 5
BA8: Level 6
E9: (in Bahasa Malaysia) | BA9: Level 7
N10: (1) | O10: (2) | P10: (3) | BA10: Level 8
E11: Reference Number | K11: Proposed dates of site visit (dd/mm/yyyy)
BA12: √
E13: Accreditation level | K13: Type of Assessment | Q13: =VLOOKUP(M13,BA21:BB26,2) -> #N/A
BA14: Full Accreditation (FA)
K15: Date of site visit (dd/mm/yyyy) | BA15: Provisional Accreditation (PA)
E17: Name of Higher
E18: Education Provider (HEP)
BA21: HEP Input (PA) | BB21: 1
E22: Address of HEP | BA22: HEP Self Review Report (FA) | BB22: 2
BA23: MMC POA PA Evaluation Report | BB23: 3
E24: MQF Level | K24: Field of Study | BA24: MMC POA Post FA(Consideration) | BB24: 6
K25: and NEC | BA25: MMC POA Post Visit FA Evaluation Report | BB25: 4
BA26: MMC POA Preliminary FA Evaluation Report | BB26: 5
E28: Mode of Study | K28: Mode of Delivery | BA28: Full Time
BA29: Part Time
E30: Mode of Offer | K30: Language of Instruction | BA30: Full Time and Part Time
BA31: Conventional (traditional, online and blended learning)
E32: Method of Learning and Teaching (select methods used) | BA32: Open and Distance learning (ODL)
E34: Lecture | K34: Industrial Training | O34: Others | BA34: Coursework - Undergraduate
E35: Tutorial | K35: Work-Based Learning | BA35: Industry Mode (2u2i) - Undergraduate
E36: Practical/Lab/Workshop | K36: Research | BA36: Coursework - Postgraduate
E37: Project | K37: Seminar/Colloquium | BA37: Mixed Mode - Postgraduate
BA38: Research - Postgraduate
E39: Type of Programme | K39: Graduating Credit
E41: Awarding Body
E43: Duration of Study | I43: Full Time | M43: Part Time
I44: Long Semester | K44: Short Semester | M44: Long Semester | O44: Short Semester
H45: No. of Weeks * | BA45: Own
H46: No. of Semesters | BA46: Collaboration
H47: No. of Years | BA47: External
H48: * Number of weeks should include study and exam weeks. | BA48: Joint Award/ Joint Degree
...

Sheet Sheet6
G7: PLEASE READ THIS FIRST
B9: Please follow the instructions below in sequence. Once finished, a summary report will be | M9: Evaluation Instrument of
B10: automatically generated. | M10: Standards for Undergraduate
M11: Medical Education
B12: 1 | C12: Click button 'CLICK HERE TO START'
C13: Please complete the required information in the spaces provided.
B15: 2 | C15: In the menu column, click button "AREA 1"
C16: i. | D16: For each standard, evaluate using the scale given (i.e AL1 - AL5)
C17: ii. | D17: Select Achievement Level (AL) for each standard from the drop-down list.
C18: iii. | D18: Please provide remarks in the corresponding columns for each standard.
C19: iv. | D19: Click to view what box ro remark for different AL value.
C20: v. | D20: Once completed for AREA 1, please proceed to the other areas of evaluation.
M21: Malaysian Medical Council (MMC)
B22: 3 | C22: After you have evaluated every area, click button "SUMMARY" to view result summary.
M30: Best viewed 1920 X 1280
M31: Developed by:
M32: mnmy

Sheet Sheet1
H1: Evaluation Instrument for Medical Specialist Training Programme
H2: Malaysian Medical Council (MMC)
G4: AREA 1: PROGRAMME DEVELOPMENT AND DELIVERY
D5: 1.1 | E5: Statement of Educational Objectives of Academic Programme and Learning Outcomes | G5: Achievement Level (AL) | H5: AL Descriptor | I5: Strength | J5: Concern | K5: Opportunity For Improvement / Recommendation | L5: Steps taken to address the problem areas Actions specified by the Evaluation Panel or proposed action as specified by the department itself. Opportunity for Improvement (OFI) | AD5: √ | BA5: AL1 | BB5: Highly unsatisfactory None of the aspect defined in the criteria have been demonstrated | BC5: Highly unsatisfactory None of the aspect defined in the criteria have been demonstrated | BD5: Highly unsatisfactory None of the aspect defined in the criteria have been demonstrated | BE5: Highly unsatisfactory None of the aspect defined in the criteria have been demonstrated | BF5: Highly unsatisfactory None of the aspect defined in the criteria have been demonstrated | BG5: Highly unsatisfactory None of the aspect defined in the criteria have been demonstrated | BH5: Highly unsatisfactory None of the aspect defined in the criteria have been demonstrated | BI5: Highly unsatisfactory None of the aspect defined in the criteria have been demonstrated | BJ5: Highly unsatisfactory None of the aspect defined in the criteria have been demonstrated | BK5: Highly unsatisfactory None of the aspect defined in the criteria have been demonstrated | BL5: Highly unsatisfactory None of the aspect defined in the criteria have been demonstrated | BM5: Highly unsatisfactory None of the aspect defined in the criteria have been demonstrated | BN5: Highly unsatisfactory None of the aspect defined in the criteria have been demonstrated | BO5: Highly unsatisfactory None of the aspect defined in the criteria have been demonstrated | BP5: Highly unsatisfactory None of the aspect defined in the criteria have been demonstrated | BQ5: Highly unsatisfactory None of the aspect defined in the criteria have been demonstrated | BR5: Highly unsatisfactory None of the aspect defined in the criteria have been demonstrated
D6: 1.1.1 | E6: The programme must: state its educational objectives which include standards of training, assessment and professionalism consistent with and supportive of the needs of the nation. | H6: =VLOOKUP(G6,$BA$5:$BR$9,2) -> #N/A | BA6: AL2 | BB6: Unsatisfactory Some aspects defined in the criteria have been demonstrated | BC6: Unsatisfactory Some aspects defined in the criteria have been demonstrated | BD6: Unsatisfactory Some aspects defined in the criteria have been demonstrated | BE6: Unsatisfactory Some aspects defined in the criteria have been demonstrated | BF6: Unsatisfactory Some aspects defined in the criteria have been demonstrated | BG6: Unsatisfactory Some aspects defined in the criteria have been demonstrated | BH6: Unsatisfactory Some aspects defined in the criteria have been demonstrated | BI6: Unsatisfactory Some aspects defined in the criteria have been demonstrated | BJ6: Unsatisfactory Some aspects defined in the criteria have been demonstrated | BK6: Unsatisfactory Some aspects defined in the criteria have been demonstrated | BL6: Unsatisfactory Some aspects defined in the criteria have been demonstrated | BM6: Unsatisfactory Some aspects defined in the criteria have been demonstrated | BN6: Unsatisfactory Some aspects defined in the criteria have been demonstrated | BO6: Unsatisfactory Some aspects defined in the criteria have been demonstrated | BP6: Unsatisfactory Some aspects defined in the criteria have been demonstrated | BQ6: Unsatisfactory Some aspects defined in the criteria have been demonstrated | BR6: Unsatisfactory Some aspects defined in the criteria have been demonstrated
H7: =VLOOKUP(G7,$BA$5:$BR$9,2) -> #N/A | BA7: AL3 | BB7: Satisfactory All aspects defined in the criteria have been demonstrated | BC7: Satisfactory All aspects defined in the criteria have been demonstrated | BD7: Satisfactory All aspects defined in the criteria have been demonstrated | BE7: Satisfactory All aspects defined in the criteria have been demonstrated | BF7: Satisfactory All aspects defined in the criteria have been demonstrated | BG7: Satisfactory All aspects defined in the criteria have been demonstrated | BH7: Satisfactory All aspects defined in the criteria have been demonstrated | BI7: Satisfactory All aspects defined in the criteria have been demonstrated | BJ7: Satisfactory All aspects defined in the criteria have been demonstrated | BK7: Satisfactory All aspects defined in the criteria have been demonstrated | BL7: Satisfactory All aspects defined in the criteria have been demonstrated | BM7: Satisfactory All aspects defined in the criteria have been demonstrated | BN7: Satisfactory All aspects defined in the criteria have been demonstrated | BO7: Satisfactory All aspects defined in the criteria have been demonstrated | BP7: Satisfactory All aspects defined in the criteria have been demonstrated | BQ7: Satisfactory All aspects defined in the criteria have been demonstrated | BR7: Satisfactory All aspects defined in the criteria have been demonstrated
E8: =IF(AND(I6="",J6="",K6="",L6=""),"INPUT ERROR! Please provide remarks"," ") -> INPUT ERROR! Please provide remarks | AD8: =IF(G6="",FALSE,TRUE) -> FALSE | AE8: =IF(G6="AL5",5,0) -> 0 | AF8: =IF(G6="AL4",4,0) -> 0 | AG8: =IF(G6="AL3",3,0) -> 0 | AH8: =IF(G6="AL2",2,0) -> 0 | AI8: =IF(G6="AL1",1,0) -> 0 | AJ8: =IF(AND(K6="",L6=""),TRUE,FALSE) -> TRUE | AK8: =IF(AND(K7="",L7=""),TRUE,FALSE) -> TRUE | AM8: =COUNTIF(AE8:AI8,0) -> 5 | AN8: =IF((E8=" "),TRUE,FALSE) -> FALSE | AO8: =COUNTIF(AE8:AI8,5) -> 0 | AP8: =COUNTIF(AE8:AI8,4) -> 0 | AQ8: =COUNTIF(AE8:AI8,2) -> 0 | AR8: =COUNTIF(AE8:AI8,1) -> 0 | AT8: =IF(G7="AL5",5,0) -> 0 | AU8: =IF(G7="AL4",4,0) -> 0 | AV8: =IF(G7="AL3",3,0) -> 0 | AW8: =IF(G7="AL2",2,0) -> 0 | AX8: =IF(G7="AL1",1,0) -> 0 | BA8: AL4 | BB8: Highly satisfactory All aspects defined in the criteria have been demonstrated with some examples of best practice | BC8: Highly satisfactory All aspects defined in the criteria have been demonstrated with some examples of best practice | BD8: Highly satisfactory All aspects defined in the criteria have been demonstrated with some examples of best practice | BE8: Highly satisfactory All aspects defined in the criteria have been demonstrated with some examples of best practice | BF8: Highly satisfactory All aspects defined in the criteria have been demonstrated with some examples of best practice | BG8: Highly satisfactory All aspects defined in the criteria have been demonstrated with some examples of best practice | BH8: Highly satisfactory All aspects defined in the criteria have been demonstrated with some examples of best practice | BI8: Highly satisfactory All aspects defined in the criteria have been demonstrated with some examples of best practice | BJ8: Highly satisfactory All aspects defined in the criteria have been demonstrated with some examples of best practice | BK8: Highly satisfactory All aspects defined in the criteria have been demonstrated with some examples of best practice | BL8: Highly satisfactory All aspects defined in the criteria have been demonstrated with some examples of best practice | BM8: Highly satisfactory All aspects defined in the criteria have been demonstrated with some examples of best practice | BN8: Highly satisfactory All aspects defined in the criteria have been demonstrated with some examples of best practice | BO8: Highly satisfactory All aspects defined in the criteria have been demonstrated with some examples of best practice | BP8: Highly satisfactory All aspects defined in the criteria have been demonstrated with some examples of best practice | BQ8: Highly satisfactory All aspects defined in the criteria have been demonstrated with some examples of best practice | BR8: Highly satisfactory All aspects defined in the criteria have been demonstrated with some examples of best practice
D9: 1.1.2 | E9: The curriculum must demonstrate its relevance and applicability in meeting the changing healthcare needs of the Malaysian population. | H9: =VLOOKUP(G9,$BA$5:$BR$9,3) -> #N/A | BA9: AL5 | BB9: Exemplary All aspects defined in the criteria have been demonstrated with best practice that can be recommended externally | BC9: Exemplary All aspects defined in the criteria have been demonstrated with best practice that can be recommended externally | BD9: Exemplary All aspects defined in the criteria have been demonstrated with best practice that can be recommended externally | BE9: Exemplary All aspects defined in the criteria have been demonstrated with best practice that can be recommended externally | BF9: Exemplary All aspects defined in the criteria have been demonstrated with best practice that can be recommended externally | BG9: Exemplary All aspects defined in the criteria have been demonstrated with best practice that can be recommended externally | BH9: Exemplary All aspects defined in the criteria have been demonstrated with best practice that can be recommended externally | BI9: Exemplary All aspects defined in the criteria have been demonstrated with best practice that can be recommended externally | BJ9: Exemplary All aspects defined in the criteria have been demonstrated with best practice that can be recommended externally | BK9: Exemplary All aspects defined in the criteria have been demonstrated with best practice that can be recommended externally | BL9: Exemplary All aspects defined in the criteria have been demonstrated with best practice that can be recommended externally | BM9: Exemplary All aspects defined in the criteria have been demonstrated with best practice that can be recommended externally | BN9: Exemplary All aspects defined in the criteria have been demonstrated with best practice that can be recommended externally | BO9: Exemplary All aspects defined in the criteria have been demonstrated with best practice that can be recommended externally | BP9: Exemplary All aspects defined in the criteria have been demonstrated with best practice that can be recommended externally | BQ9: Exemplary All aspects defined in the criteria have been demonstrated with best practice that can be recommended externally | BR9: Exemplary All aspects defined in the criteria have been demonstrated with best practice that can be recommended externally
H10: =VLOOKUP(G10,$BA$5:$BR$9,3) -> #N/A
E11: =IF(AND(I9="",J9="",K9="",L9=""),"INPUT ERROR! Please provide remarks"," ") -> INPUT ERROR! Please provide remarks | AC11: =IF(G9="",FALSE,TRUE) -> FALSE | AD11: =AC11 -> FALSE | AE11: =IF($G$9="AL5",5,0) -> 0 | AF11: =IF($G$9="AL4",4,0) -> 0 | AG11: =IF($G$9="AL3",3,0) -> 0 | AH11: =IF($G$9="AL2",2,0) -> 0 | AI11: =IF($G$9="AL1",1,0) -> 0 | AJ11: =IF(AND(K9="",L9=""),TRUE,FALSE) -> TRUE | AK11: =IF(AND(K10="",L10=""),TRUE,FALSE) -> TRUE | AM11: =COUNTIF(AE11:AI11,0) -> 5 | AN11: =IF((E11=" "),TRUE,FALSE) -> FALSE | AO11: =COUNTIF(AE11:AI11,5) -> 0 | AP11: =COUNTIF(AE11:AI11,4) -> 0 | AQ11: =COUNTIF(AE11:AI11,2) -> 0 | AR11: =COUNTIF(AE11:AI11,1) -> 0 | AT11: =IF(G10="AL5",5,0) -> 0 | AU11: =IF(G10="AL4",4,0) -> 0 | AV11: =IF(G10="AL3",3,0) -> 0 | AW11: =IF(G10="AL2",2,0) -> 0 | AX11: =IF(G10="AL1",1,0) -> 0
D12: 1.1.3 | E12: The programme must state its programme learning outcomes, teaching-learning and assessment strategies and ensure constructive alignment between them. | H12: =VLOOKUP(G12,$BA$5:$BR$9,4) -> #N/A
H13: =VLOOKUP(G13,$BA$5:$BR$9,4) -> #N/A
E14: =IF(AND(I12="",J12="",K12="",L12=""),"INPUT ERROR! Please provide remarks"," ") -> INPUT ERROR! Please provide remarks | AD14: =IF(G12="",FALSE,TRUE) -> FALSE | AE14: =IF(G12="AL5",5,0) -> 0 | AF14: =IF(G12="AL4",4,0) -> 0 | AG14: =IF(G12="AL3",3,0) -> 0 | AH14: =IF(G12="AL2",2,0) -> 0 | AI14: =IF(G12="AL1",1,0) -> 0 | AJ14: =IF(AND(K12="",L12=""),TRUE,FALSE) -> TRUE | AK14: =IF(AND(K13="",L13=""),TRUE,FALSE) -> TRUE | AM14: =COUNTIF(AE14:AI14,0) -> 5 | AN14: =IF((E14=" "),TRUE,FALSE) -> FALSE | AO14: =COUNTIF(AE14:AI14,5) -> 0 | AP14: =COUNTIF(AE14:AI14,4) -> 0 | AQ14: =COUNTIF(AE14:AI14,2) -> 0 | AR14: =COUNTIF(AE14:AI14,1) -> 0 | AT14: =IF(G13="AL5",5,0) -> 0 | AU14: =IF(G13="AL4",4,0) -> 0 | AV14: =IF(G13="AL3",3,0) -> 0 | AW14: =IF(G13="AL2",2,0) -> 0 | AX14: =IF(G13="AL1",1,0) -> 0
D15: 1.1.4 | E15: The programme learning outcomes must support the development of relevant competencies which can be mapped to Malaysian Qualification Framework (MQF) learning domains as below: 1. Knowledge and understanding 2. Cognitive skills 3. Functional work skills with focus on: a. Practical Skills b. Interpersonal skills c. Communication skills d. Digital skills e. Numeracy skills f. Leadership, autonomy and responsibility 4. Personal and entrepreneurial skills 5. Ethics and professionalism. These outcomes and skills must address many interdependent areas, such as patient safety, patient-centredness, principles of equality and diversity, healthcare economics, operational perspectives and workforce safety. | H15: =VLOOKUP(G15,$BA$5:$BR$9,5) -> #N/A
H16: =VLOOKUP(G16,$BA$5:$BR$9,5) -> #N/A
E17: =IF(AND(I15="",J15="",K15="",L15=""),"INPUT ERROR! Please provide remarks"," ") -> INPUT ERROR! Please provide remarks | AD17: =IF(G15="",FALSE,TRUE) -> FALSE | AE17: =IF(G15="AL5",5,0) -> 0 | AF17: =IF(G15="AL4",4,0) -> 0 | AG17: =IF(G15="AL3",3,0) -> 0 | AH17: =IF(G15="AL2",2,0) -> 0 | AI17: =IF(G15="AL1",1,0) -> 0 | AJ17: =IF(AND(K15="",L15=""),TRUE,FALSE) -> TRUE | AK17: =IF(AND(K16="",L16=""),TRUE,FALSE) -> TRUE | AM17: =COUNTIF(AE17:AI17,0) -> 5 | AN17: =IF((E17=" "),TRUE,FALSE) -> FALSE | AO17: =COUNTIF(AE17:AI17,5) -> 0 | AP17: =COUNTIF(AE17:AI17,4) -> 0 | AQ17: =COUNTIF(AE17:AI17,2) -> 0 | AR17: =COUNTIF(AE17:AI17,1) -> 0 | AT17: =IF(G16="AL5",5,0) -> 0 | AU17: =IF(G16="AL4",4,0) -> 0 | AV17: =IF(G16="AL3",3,0) -> 0 | AW17: =IF(G16="AL2",2,0) -> 0 | AX17: =IF(G16="AL1",1,0) -> 0
D18: 1.1.5 | E18: The programme must state the required breadth and depth of experience to enable graduates to function as competent medical specialists and enable them to further sub-specialise | H18: =VLOOKUP(G18,$BA$5:$BR$9,6) -> #N/A
H19: =VLOOKUP(G19,$BA$5:$BR$9,6) -> #N/A
E20: =IF(AND(I18="",J18="",K18="",L18=""),"INPUT ERROR! Please provide remarks"," ") -> INPUT ERROR! Please provide remarks | AD20: =IF(G18="",FALSE,TRUE) -> FALSE | AE20: =IF(G18="AL5",5,0) -> 0 | AF20: =IF(G18="AL4",4,0) -> 0 | AG20: =IF(G18="AL3",3,0) -> 0 | AH20: =IF(G18="AL2",2,0) -> 0 | AI20: =IF(G18="AL1",1,0) -> 0 | AJ20: =IF(AND(K18="",L18=""),TRUE,FALSE) -> TRUE | AK20: =IF(AND(K19="",L19=""),TRUE,FALSE) -> TRUE | AM20: =COUNTIF(AE20:AI20,0) -> 5 | AN20: =IF((E20=" "),TRUE,FALSE) -> FALSE | AO20: =COUNTIF(AE20:AI20,5) -> 0 | AP20: =COUNTIF(AE20:AI20,4) -> 0 | AQ20: =COUNTIF(AE20:AI20,2) -> 0 | AR20: =COUNTIF(AE20:AI20,1) -> 0 | AT20: =IF(G19="AL5",5,0) -> 0 | AU20: =IF(G19="AL4",4,0) -> 0 | AV20: =IF(G19="AL3",3,0) -> 0 | AW20: =IF(G19="AL2",2,0) -> 0 | AX20: =IF(G19="AL1",1,0) -> 0
D22: 1.2 | E22: Programme Development: Process, Content, Structure and Teaching-Learning Methods | G22: Achievement Level (AL) | H22: AL Descriptor | I22: Strength | J22: Concern | K22: Opportunity For Improvement / Recommendation | L22: Steps taken to address the problem areas Actions specified by the Evaluation Panel or proposed action as specified by the department itself. Opportunity for Improvement (OFI)
D23: 1.2.1 | E23: The programme must state the resource requirements and governance structures to implement and sustain delivery of the curriculum. | H23: =VLOOKUP(G23,$BA$5:$BR$9,7) -> #N/A
H24: =VLOOKUP(G24,$BA$5:$BR$9,7) -> #N/A
E25: =IF(AND(I23="",J23="",K23="",L23=""),"INPUT ERROR! Please provide remarks"," ") -> INPUT ERROR! Please provide remarks | AC25: =IF(G23="",FALSE,TRUE) -> FALSE | AD25: =AC25 -> FALSE | AE25: =IF(G23="AL5",5,0) -> 0 | AF25: =IF(G23="AL4",4,0) -> 0 | AG25: =IF(G23="AL3",3,0) -> 0 | AH25: =IF(G23="AL2",2,0) -> 0 | AI25: =IF(G23="AL1",1,0) -> 0 | AJ25: =IF(AND(K23="",L23=""),TRUE,FALSE) -> TRUE | AK25: =IF(AND(K24="",L24=""),TRUE,FALSE) -> TRUE | AM25: =COUNTIF(AE25:AI25,0) -> 5 | AN25: =IF((E25=" "),TRUE,FALSE) -> FALSE | AO25: =COUNTIF(AE25:AI25,5) -> 0 | AP25: =COUNTIF(AE25:AI25,4) -> 0 | AQ25: =COUNTIF(AE25:AI25,2) -> 0 | AR25: =COUNTIF(AE25:AI25,1) -> 0 | AT25: =IF(G24="AL5",5,0) -> 0 | AU25: =IF(G24="AL4",4,0) -> 0 | AV25: =IF(G24="AL3",3,0) -> 0 | AW25: =IF(G24="AL2",2,0) -> 0 | AX25: =IF(G24="AL1",1,0) -> 0
D26: 1.2.2 | E26: The curriculum must be developed using appropriate experts and processes, leading to approval by the Malaysian Medical Council. | H26: =VLOOKUP(G26,$BA$5:$BR$9,8) -> #N/A
H27: =VLOOKUP(G27,$BA$5:$BR$9,8) -> #N/A
E28: =IF(AND(I26="",J26="",K26="",L26=""),"INPUT ERROR! Please provide remarks"," ") -> INPUT ERROR! Please provide remarks | AD28: =IF(G26="",FALSE,TRUE) -> FALSE | AE28: =IF(G26="AL5",5,0) -> 0 | AF28: =IF(G26="AL4",4,0) -> 0 | AG28: =IF(G26="AL3",3,0) -> 0 | AH28: =IF(G26="AL2",2,0) -> 0 | AI28: =IF(G26="AL1",1,0) -> 0 | AJ28: =IF(AND(K26="",L26=""),TRUE,FALSE) -> TRUE | AK28: =IF(AND(K27="",L27=""),TRUE,FALSE) -> TRUE | AM28: =COUNTIF(AE28:AI28,0) -> 5 | AN28: =IF((E28=" "),TRUE,FALSE) -> FALSE | AO28: =COUNTIF(AE28:AI28,5) -> 0 | AP28: =COUNTIF(AE28:AI28,4) -> 0 | AQ28: =COUNTIF(AE28:AI28,2) -> 0 | AR28: =COUNTIF(AE28:AI28,1) -> 0 | AT28: =IF(G27="AL5",5,0) -> 0 | AU28: =IF(G27="AL4",4,0) -> 0 | AV28: =IF(G27="AL3",3,0) -> 0 | AW28: =IF(G27="AL2",2,0) -> 0 | AX28: =IF(G27="AL1",1,0) -> 0
D29: 1.2.3 | E29: The programme must consult stakeholders (including educational experts, where appropriate) in the development of the curriculum. | H29: =VLOOKUP(G29,$BA$5:$BR$9,9) -> #N/A
H30: =VLOOKUP(G30,$BA$5:$BR$9,9) -> #N/A
E31: =IF(AND(I29="",J29="",K29="",L29=""),"INPUT ERROR! Please provide remarks"," ") -> INPUT ERROR! Please provide remarks | AD31: =IF(G29="",FALSE,TRUE) -> FALSE | AE31: =IF(G29="AL5",5,0) -> 0 | AF31: =IF(G29="AL4",4,0) -> 0 | AG31: =IF(G29="AL3",3,0) -> 0 | AH31: =IF(G29="AL2",2,0) -> 0 | AI31: =IF(G29="AL1",1,0) -> 0 | AJ31: =IF(AND(K29="",L29=""),TRUE,FALSE) -> TRUE | AK31: =IF(AND(K30="",L30=""),TRUE,FALSE) -> TRUE | AM31: =COUNTIF(AE31:AI31,0) -> 5 | AN31: =IF((E31=" "),TRUE,FALSE) -> FALSE | AO31: =COUNTIF(AE31:AI31,5) -> 0 | AP31: =COUNTIF(AE31:AI31,4) -> 0 | AQ31: =COUNTIF(AE31:AI31,2) -> 0 | AR31: =COUNTIF(AE31:AI31,1) -> 0 | AT31: =IF(G30="AL5",5,0) -> 0 | AU31: =IF(G30="AL4",4,0) -> 0 | AV31: =IF(G30="AL3",3,0) -> 0 | AW31: =IF(G30="AL2",2,0) -> 0 | AX31: =IF(G30="AL1",1,0) -> 0
D32: 1.2.4 | E32: The curriculum must show that the training covers all aspects of professional development including: i. the acquisition of relevant competencies ii. opportunities for trainer-trainee interactions for the application of principles of scientific method, analytical and critical thinking and value-based medicine iii. aspects of behavioral sciences, social sciences, medical ethics and medical law that are relevant to the practice of the specialty iv. training in patient safety and patient-centeredness v. planned contact with patients and communities in relevant healthcare settings+E35 vi. participation in health promotion and preventive medicine activities vii. healthcare economics including funding frameworks, cost of care and clinical decision-making This Standard is to be read with the Discipline-Specific Requirements. RATING FOR TABLE 2 | H32: =VLOOKUP(G32,$BA$5:$BR$9,10) -> #N/A
H33: =VLOOKUP(G33,$BA$5:$BR$9,10) -> #N/A
E34: =IF(AND(I32="",J32="",K32="",L32=""),"INPUT ERROR! Please provide remarks"," ") -> INPUT ERROR! Please provide remarks | AD34: =IF(G32="",FALSE,TRUE) -> FALSE | AE34: =IF(G32="AL5",5,0) -> 0 | AF34: =IF(G32="AL4",4,0) -> 0 | AG34: =IF(G32="AL3",3,0) -> 0 | AH34: =IF(G32="AL2",2,0) -> 0 | AI34: =IF(G32="AL1",1,0) -> 0 | AJ34: =IF(AND(K32="",L32=""),TRUE,FALSE) -> TRUE | AK34: =IF(AND(K33="",L33=""),TRUE,FALSE) -> TRUE | AM34: =COUNTIF(AE34:AI34,0) -> 5 | AN34: =IF((E34=" "),TRUE,FALSE) -> FALSE | AO34: =COUNTIF(AE34:AI34,5) -> 0 | AP34: =COUNTIF(AE34:AI34,4) -> 0 | AQ34: =COUNTIF(AE34:AI34,2) -> 0 | AR34: =COUNTIF(AE34:AI34,1) -> 0 | AT34: =IF(G33="AL5",5,0) -> 0 | AU34: =IF(G33="AL4",4,0) -> 0 | AV34: =IF(G33="AL3",3,0) -> 0 | AW34: =IF(G33="AL2",2,0) -> 0 | AX34: =IF(G33="AL1",1,0) -> 0
D35: 1.2.4 | E35: The curriculum must show that the training covers all aspects of professional development including: i. the acquisition of relevant competencies ii. opportunities for trainer-trainee interactions for the application of principles of scientific method, analytical and critical thinking and value-based medicine iii. aspects of behavioral sciences, social sciences, medical ethics and medical law that are relevant to the practice of the specialty iv. training in patient safety and patient-centeredness v. planned contact with patients and communities in relevant healthcare settings vi. participation in health promotion and preventive medicine activities vii. healthcare economics including funding frameworks, cost of care and clinical decision-making This Standard is to be read with the Discipline-Specific Requirement. RATING FOR TABLE 3 | H35: =VLOOKUP(G35,$BA$5:$BR$9,10) -> #N/A
H36: =VLOOKUP(G36,$BA$5:$BR$9,10) -> #N/A
E37: =IF(AND(I35="",J35="",K35="",L35=""),"INPUT ERROR! Please provide remarks"," ") -> INPUT ERROR! Please provide remarks | AD37: =IF(G35="",FALSE,TRUE) -> FALSE | AE37: =IF(G35="AL5",5,0) -> 0 | AF37: =IF(G35="AL4",4,0) -> 0 | AG37: =IF(G35="AL3",3,0) -> 0 | AH37: =IF(G35="AL2",2,0) -> 0 | AI37: =IF(G35="AL1",1,0) -> 0 | AJ37: =IF(AND(K35="",L35=""),TRUE,FALSE) -> TRUE | AK37: =IF(AND(K36="",L36=""),TRUE,FALSE) -> TRUE | AM37: =COUNTIF(AE37:AI37,0) -> 5 | AN37: =IF((E37=" "),TRUE,FALSE) -> FALSE | AO37: =COUNTIF(AE37:AI37,5) -> 0 | AP37: =COUNTIF(AE37:AI37,4) -> 0 | AQ37: =COUNTIF(AE37:AI37,2) -> 0 | AR37: =COUNTIF(AE37:AI37,1) -> 0 | AT37: =IF(G36="AL5",5,0) -> 0 | AU37: =IF(G36="AL4",4,0) -> 0 | AV37: =IF(G36="AL3",3,0) -> 0 | AW37: =IF(G36="AL2",2,0) -> 0 | AX37: =IF(G36="AL1",1,0) -> 0
D38: 1.2.4 | E38: The curriculum must show that the training covers all aspects of professional development including: i. the acquisition of relevant competencies ii. opportunities for trainer-trainee interactions for the application of principles of scientific method, analytical and critical thinking and value-based medicine iii. aspects of behavioral sciences, social sciences, medical ethics and medical law that are relevant to the practice of the specialty iv. training in patient safety and patient-centeredness v. planned contact with patients and communities in relevant healthcare settings vi. participation in health promotion and preventive medicine activities vii. healthcare economics including funding frameworks, cost of care and clinical decision-making This Standard is to be read with the Discipline-Specific Requirements. RATING FOR TABLE 4 | H38: =VLOOKUP(G38,$BA$5:$BR$9,10) -> #N/A
H39: =VLOOKUP(G39,$BA$5:$BR$9,10) -> #N/A
AD40: =IF(G38="",FALSE,TRUE) -> FALSE | AE40: =IF(G38="AL5",5,0) -> 0 | AF40: =IF(G38="AL4",4,0) -> 0 | AG40: =IF(G38="AL3",3,0) -> 0 | AH40: =IF(G38="AL2",2,0) -> 0 | AI40: =IF(G38="AL1",1,0) -> 0 | AJ40: =IF(AND(K38="",L38=""),TRUE,FALSE) -> TRUE | AK40: =IF(AND(K39="",L39=""),TRUE,FALSE) -> TRUE | AM40: =COUNTIF(AE40:AI40,0) -> 5 | AN40: =IF((E40=" "),TRUE,FALSE) -> FALSE | AO40: =COUNTIF(AE40:AI40,5) -> 0 | AP40: =COUNTIF(AE40:AI40,4) -> 0 | AQ40: =COUNTIF(AE40:AI40,2) -> 0 | AR40: =COUNTIF(AE40:AI40,1) -> 0 | AT40: =IF(G39="AL5",5,0) -> 0 | AU40: =IF(G39="AL4",4,0) -> 0 | AV40: =IF(G39="AL3",3,0) -> 0 | AW40: =IF(G39="AL2",2,0) -> 0 | AX40: =IF(G39="AL1",1,0) -> 0
D41: 1.2.5 | E41: The curriculum must detail appropriate and current teaching and learning methods relevant to the programme educational objectives and learning outcomes. | H41: =VLOOKUP(G41,$BA$5:$BR$9,11) -> #N/A
H42: =VLOOKUP(G42,$BA$5:$BR$9,11) -> #N/A
...

Sheet Sheet1 (2)
H1: Evaluation Instrument for Medical Specialist Training Programme
H2: Malaysian Medical Council (MMC)
G4: AREA 2: ASSESSMENT OF STUDENT LEARNING
D5: 2.1 | E5: Relationship between Assessment and Learning Outcomes | G5: Achievement Level (AL) | H5: AL Descriptor | I5: Strength | J5: Concern | K5: Opportunity For Improvement / Recommendation | L5: Steps taken to address the problem areas Actions specified by the Evaluation Panel or proposed action as specified by the department itself. Opportunity for Improvement (OFI) | AD5: √ | BA5: AL1 | BB5: Highly unsatisfactory None of the aspect defined in the criteria have been demonstrated | BC5: Highly unsatisfactory None of the aspect defined in the criteria have been demonstrated | BD5: Highly unsatisfactory None of the aspect defined in the criteria have been demonstrated | BE5: Highly unsatisfactory None of the aspect defined in the criteria have been demonstrated | BF5: Highly unsatisfactory None of the aspect defined in the criteria have been demonstrated | BG5: Highly unsatisfactory None of the aspect defined in the criteria have been demonstrated | BH5: Highly unsatisfactory None of the aspect defined in the criteria have been demonstrated | BI5: Highly unsatisfactory None of the aspect defined in the criteria have been demonstrated | BJ5: Highly unsatisfactory None of the aspect defined in the criteria have been demonstrated | BK5: Highly unsatisfactory None of the aspect defined in the criteria have been demonstrated | BL5: Highly unsatisfactory None of the aspect defined in the criteria have been demonstrated
D6: 2.1.1 | E6: Assessment principles, methods and practices must be aligned to the learning outcomes and curriculum of the programme, to enable progressive judgements to be made about trainees’ preparedness for independent specialist practice. | H6: =VLOOKUP(G6,$BA$5:$BR$14,2) -> #N/A | BA6: AL2 | BB6: Unsatisfactory Some aspects defined in the criteria have been demonstrated | BC6: Unsatisfactory Some aspects defined in the criteria have been demonstrated | BD6: Unsatisfactory Some aspects defined in the criteria have been demonstrated | BE6: Unsatisfactory Some aspects defined in the criteria have been demonstrated | BF6: Unsatisfactory Some aspects defined in the criteria have been demonstrated | BG6: Unsatisfactory Some aspects defined in the criteria have been demonstrated | BH6: Unsatisfactory Some aspects defined in the criteria have been demonstrated | BI6: Unsatisfactory Some aspects defined in the criteria have been demonstrated | BJ6: Unsatisfactory Some aspects defined in the criteria have been demonstrated | BK6: Unsatisfactory Some aspects defined in the criteria have been demonstrated | BL6: Unsatisfactory Some aspects defined in the criteria have been demonstrated
H7: =VLOOKUP(G7,$BA$5:$BR$14,2) -> #N/A | BA7: AL3 | BB7: Satisfactory All aspects defined in the criteria have been demonstrated | BC7: Satisfactory All aspects defined in the criteria have been demonstrated | BD7: Satisfactory All aspects defined in the criteria have been demonstrated | BE7: Satisfactory All aspects defined in the criteria have been demonstrated | BF7: Satisfactory All aspects defined in the criteria have been demonstrated | BG7: Satisfactory All aspects defined in the criteria have been demonstrated | BH7: Satisfactory All aspects defined in the criteria have been demonstrated | BI7: Satisfactory All aspects defined in the criteria have been demonstrated | BJ7: Satisfactory All aspects defined in the criteria have been demonstrated | BK7: Satisfactory All aspects defined in the criteria have been demonstrated | BL7: Satisfactory All aspects defined in the criteria have been demonstrated
E8: =IF(AND(I6="",J6="",K6="",L6=""),"INPUT ERROR! Please provide remarks"," ") -> INPUT ERROR! Please provide remarks | AD8: =IF(G6="",FALSE,TRUE) -> FALSE | AE8: =IF(G6="AL5",5,0) -> 0 | AF8: =IF(G6="AL4",4,0) -> 0 | AG8: =IF(G6="AL3",3,0) -> 0 | AH8: =IF(G6="AL2",2,0) -> 0 | AI8: =IF(G6="AL1",1,0) -> 0 | AJ8: =IF(AND(K6="",L6=""),TRUE,FALSE) -> TRUE | AK8: =IF(AND(K7="",L7=""),TRUE,FALSE) -> TRUE | AM8: =COUNTIF(AE8:AI8,0) -> 5 | AN8: =IF((E8=" "),TRUE,FALSE) -> FALSE | AO8: =COUNTIF(AE8:AI8,5) -> 0 | AP8: =COUNTIF(AE8:AI8,4) -> 0 | AQ8: =COUNTIF(AE8:AI8,2) -> 0 | AR8: =COUNTIF(AE8:AI8,1) -> 0 | AT8: =IF(G7="AL5",5,0) -> 0 | AU8: =IF(G7="AL4",4,0) -> 0 | AV8: =IF(G7="AL3",3,0) -> 0 | AW8: =IF(G7="AL2",2,0) -> 0 | AX8: =IF(G7="AL1",1,0) -> 0 | BA8: AL4 | BB8: Highly satisfactory All aspects defined in the criteria have been demonstrated with some examples of best practice | BC8: Highly satisfactory All aspects defined in the criteria have been demonstrated with some examples of best practice | BD8: Highly satisfactory All aspects defined in the criteria have been demonstrated with some examples of best practice | BE8: Highly satisfactory All aspects defined in the criteria have been demonstrated with some examples of best practice | BF8: Highly satisfactory All aspects defined in the criteria have been demonstrated with some examples of best practice | BG8: Highly satisfactory All aspects defined in the criteria have been demonstrated with some examples of best practice | BH8: Highly satisfactory All aspects defined in the criteria have been demonstrated with some examples of best practice | BI8: Highly satisfactory All aspects defined in the criteria have been demonstrated with some examples of best practice | BJ8: Highly satisfactory All aspects defined in the criteria have been demonstrated with some examples of best practice | BK8: Highly satisfactory All aspects defined in the criteria have been demonstrated with some examples of best practice | BL8: Highly satisfactory All aspects defined in the criteria have been demonstrated with some examples of best practice
D9: 2.1.2 | E9: The alignment between assessment and the learning outcomes of the programme must be systematically and regularly reviewed to ensure its effectiveness. | H9: =VLOOKUP(G9,$BA$5:$BR$14,3) -> #N/A | BA9: AL5 | BB9: Exemplary All aspects defined in the criteria have been demonstrated with best practice that can be recommended externally | BC9: Exemplary All aspects defined in the criteria have been demonstrated with best practice that can be recommended externally | BD9: Exemplary All aspects defined in the criteria have been demonstrated with best practice that can be recommended externally | BE9: Exemplary All aspects defined in the criteria have been demonstrated with best practice that can be recommended externally | BF9: Exemplary All aspects defined in the criteria have been demonstrated with best practice that can be recommended externally | BG9: Exemplary All aspects defined in the criteria have been demonstrated with best practice that can be recommended externally | BH9: Exemplary All aspects defined in the criteria have been demonstrated with best practice that can be recommended externally | BI9: Exemplary All aspects defined in the criteria have been demonstrated with best practice that can be recommended externally | BJ9: Exemplary All aspects defined in the criteria have been demonstrated with best practice that can be recommended externally | BK9: Exemplary All aspects defined in the criteria have been demonstrated with best practice that can be recommended externally | BL9: Exemplary All aspects defined in the criteria have been demonstrated with best practice that can be recommended externally
H10: =VLOOKUP(G10,$BA$5:$BR$14,3) -> #N/A
E11: =IF(AND(I9="",J9="",K9="",L9=""),"INPUT ERROR! Please provide remarks"," ") -> INPUT ERROR! Please provide remarks | AD11: =IF(G9="",FALSE,TRUE) -> FALSE | AE11: =IF(G9="AL5",5,0) -> 0 | AF11: =IF(G9="AL4",4,0) -> 0 | AG11: =IF(G9="AL3",3,0) -> 0 | AH11: =IF(G9="AL2",2,0) -> 0 | AI11: =IF(G9="AL1",1,0) -> 0 | AJ11: =IF(AND(K9="",L9=""),TRUE,FALSE) -> TRUE | AK11: =IF(AND(K10="",L10=""),TRUE,FALSE) -> TRUE | AM11: =COUNTIF(AE11:AI11,0) -> 5 | AN11: =IF((E11=" "),TRUE,FALSE) -> FALSE | AO11: =COUNTIF(AE11:AI11,5) -> 0 | AP11: =COUNTIF(AE11:AI11,4) -> 0 | AQ11: =COUNTIF(AE11:AI11,2) -> 0 | AR11: =COUNTIF(AE11:AI11,1) -> 0 | AT11: =IF(G10="AL5",5,0) -> 0 | AU11: =IF(G10="AL4",4,0) -> 0 | AV11: =IF(G10="AL3",3,0) -> 0 | AW11: =IF(G10="AL2",2,0) -> 0 | AX11: =IF(G10="AL1",1,0) -> 0
D12: 2.1.3 | E12: The assessment requirements for progress and completion must be clearly documented. These documents must be accessible to all staff, supervisors and trainees. | H12: =VLOOKUP(G12,$BA$5:$BR$14,3) -> #N/A
H13: =VLOOKUP(G13,$BA$5:$BR$14,3) -> #N/A
E14: =IF(AND(I12="",J12="",K12="",L12=""),"INPUT ERROR! Please provide remarks"," ") -> INPUT ERROR! Please provide remarks | AD14: =IF(G12="",FALSE,TRUE) -> FALSE | AE14: =IF(G12="AL5",5,0) -> 0 | AF14: =IF(G12="AL4",4,0) -> 0 | AG14: =IF(G12="AL3",3,0) -> 0 | AH14: =IF(G12="AL2",2,0) -> 0 | AI14: =IF(G12="AL1",1,0) -> 0 | AJ14: =IF(AND(K12="",L12=""),TRUE,FALSE) -> TRUE | AK14: =IF(AND(K13="",L13=""),TRUE,FALSE) -> TRUE | AM14: =COUNTIF(AE14:AI14,0) -> 5 | AN14: =IF((E14=" "),TRUE,FALSE) -> FALSE | AO14: =COUNTIF(AE14:AI14,5) -> 0 | AP14: =COUNTIF(AE14:AI14,4) -> 0 | AQ14: =COUNTIF(AE14:AI14,2) -> 0 | AR14: =COUNTIF(AE14:AI14,1) -> 0 | AT14: =IF(G13="AL5",5,0) -> 0 | AU14: =IF(G13="AL4",4,0) -> 0 | AV14: =IF(G13="AL3",3,0) -> 0 | AW14: =IF(G13="AL2",2,0) -> 0 | AX14: =IF(G13="AL1",1,0) -> 0
E15: .
D16: 2.2 | E16: Assessment Methods | G16: Achievement Level (AL) | H16: AL Descriptor | I16: Strength | J16: Concern | K16: Opportunity For Improvement / Recommendation | L16: Steps taken to address the problem areas Actions specified by the Evaluation Panel or proposed action as specified by the department itself. Opportunity for Improvement (OFI)
D17: 2.2.1 | E17: There must be a variety of methods and tools that are appropriate for the assessment of learning outcomes, competencies and entrustable professional activities. This Standard is to be read with the Discipline-Specific Requirements. | H17: =VLOOKUP(G17,$BA$5:$BR$14,4) -> #N/A
H18: =VLOOKUP(G18,$BA$5:$BR$14,4) -> #N/A
E19: =IF(AND(I17="",J17="",K17="",L17=""),"INPUT ERROR! Please provide remarks"," ") -> INPUT ERROR! Please provide remarks | AD19: =IF(G17="",FALSE,TRUE) -> FALSE | AE19: =IF(G17="AL5",5,0) -> 0 | AF19: =IF(G17="AL4",4,0) -> 0 | AG19: =IF(G17="AL3",3,0) -> 0 | AH19: =IF(G17="AL2",2,0) -> 0 | AI19: =IF(G17="AL1",1,0) -> 0 | AJ19: =IF(AND(K17="",L17=""),TRUE,FALSE) -> TRUE | AK19: =IF(AND(K18="",L18=""),TRUE,FALSE) -> TRUE | AM19: =COUNTIF(AE19:AI19,0) -> 5 | AN19: =IF((E19=" "),TRUE,FALSE) -> FALSE | AO19: =COUNTIF(AE19:AI19,5) -> 0 | AP19: =COUNTIF(AE19:AI19,4) -> 0 | AQ19: =COUNTIF(AE19:AI19,2) -> 0 | AR19: =COUNTIF(AE19:AI19,1) -> 0 | AT19: =IF(G18="AL5",5,0) -> 0 | AU19: =IF(G18="AL4",4,0) -> 0 | AV19: =IF(G18="AL3",3,0) -> 0 | AW19: =IF(G18="AL2",2,0) -> 0 | AX19: =IF(G18="AL1",1,0) -> 0
D20: 2.2.2 | E20: The programme must have a blueprint to guide assessment through each stage of the specialty medical programme. | H20: =VLOOKUP(G20,$BA$5:$BR$14,5) -> #N/A
H21: =VLOOKUP(G21,$BA$5:$BR$14,5) -> #N/A
E22: =IF(AND(I20="",J20="",K20="",L20=""),"INPUT ERROR! Please provide remarks"," ") -> INPUT ERROR! Please provide remarks | AD22: =IF(G20="",FALSE,TRUE) -> FALSE | AE22: =IF(G20="AL5",5,0) -> 0 | AF22: =IF(G20="AL4",4,0) -> 0 | AG22: =IF(G20="AL3",3,0) -> 0 | AH22: =IF(G20="AL2",2,0) -> 0 | AI22: =IF(G20="AL1",1,0) -> 0 | AJ22: =IF(AND(K20="",L20=""),TRUE,FALSE) -> TRUE | AK22: =IF(AND(K21="",L21=""),TRUE,FALSE) -> TRUE | AM22: =COUNTIF(AE22:AI22,0) -> 5 | AN22: =IF((E22=" "),TRUE,FALSE) -> FALSE | AO22: =COUNTIF(AE22:AI22,5) -> 0 | AP22: =COUNTIF(AE22:AI22,4) -> 0 | AQ22: =COUNTIF(AE22:AI22,2) -> 0 | AR22: =COUNTIF(AE22:AI22,1) -> 0 | AT22: =IF(G21="AL5",5,0) -> 0 | AU22: =IF(G21="AL4",4,0) -> 0 | AV22: =IF(G21="AL3",3,0) -> 0 | AW22: =IF(G21="AL2",2,0) -> 0 | AX22: =IF(G21="AL1",1,0) -> 0
D23: 2.2.3 | E23: Formative and summative assessment methods must be employed. | H23: =VLOOKUP(G23,$BA$5:$BR$14,6) -> #N/A
H24: =VLOOKUP(G24,$BA$5:$BR$14,6) -> #N/A
E25: =IF(AND(I23="",J23="",K23="",L23=""),"INPUT ERROR! Please provide remarks"," ") -> INPUT ERROR! Please provide remarks | AD25: =IF(G23="",FALSE,TRUE) -> FALSE | AE25: =IF(G23="AL5",5,0) -> 0 | AF25: =IF(G23="AL4",4,0) -> 0 | AG25: =IF(G23="AL3",3,0) -> 0 | AH25: =IF(G23="AL2",2,0) -> 0 | AI25: =IF(G23="AL1",1,0) -> 0 | AJ25: =IF(AND(K23="",L23=""),TRUE,FALSE) -> TRUE | AK25: =IF(AND(K24="",L24=""),TRUE,FALSE) -> TRUE | AM25: =COUNTIF(AE25:AI25,0) -> 5 | AN25: =IF((E25=" "),TRUE,FALSE) -> FALSE | AO25: =COUNTIF(AE25:AI25,5) -> 0 | AP25: =COUNTIF(AE25:AI25,4) -> 0 | AQ25: =COUNTIF(AE25:AI25,2) -> 0 | AR25: =COUNTIF(AE25:AI25,1) -> 0 | AT25: =IF(G24="AL5",5,0) -> 0 | AU25: =IF(G24="AL4",4,0) -> 0 | AV25: =IF(G24="AL3",3,0) -> 0 | AW25: =IF(G24="AL2",2,0) -> 0 | AX25: =IF(G24="AL1",1,0) -> 0
D26: 2.2.4 | E26: Assessment methods must be reliable, valid, current and fair. | H26: =VLOOKUP(G26,$BA$5:$BR$14,7) -> #N/A
H27: =VLOOKUP(G27,$BA$5:$BR$14,7) -> #N/A
E28: =IF(AND(I26="",J26="",K26="",L26=""),"INPUT ERROR! Please provide remarks"," ") -> INPUT ERROR! Please provide remarks | AD28: =IF(G26="",FALSE,TRUE) -> FALSE | AE28: =IF(G26="AL5",5,0) -> 0 | AF28: =IF(G26="AL4",4,0) -> 0 | AG28: =IF(G26="AL3",3,0) -> 0 | AH28: =IF(G26="AL2",2,0) -> 0 | AI28: =IF(G26="AL1",1,0) -> 0 | AJ28: =IF(AND(K26="",L26=""),TRUE,FALSE) -> TRUE | AK28: =IF(AND(K27="",L27=""),TRUE,FALSE) -> TRUE | AM28: =COUNTIF(AE28:AI28,0) -> 5 | AN28: =IF((E28=" "),TRUE,FALSE) -> FALSE | AO28: =COUNTIF(AE28:AI28,5) -> 0 | AP28: =COUNTIF(AE28:AI28,4) -> 0 | AQ28: =COUNTIF(AE28:AI28,2) -> 0 | AR28: =COUNTIF(AE28:AI28,1) -> 0 | AT28: =IF(G27="AL5",5,0) -> 0 | AU28: =IF(G27="AL4",4,0) -> 0 | AV28: =IF(G27="AL3",3,0) -> 0 | AW28: =IF(G27="AL2",2,0) -> 0 | AX28: =IF(G27="AL1",1,0) -> 0
D29: 2.2.5 | E29: The frequency, methods, and criteria of trainee assessment - including the grading system and appeal policies - must be documented and communicated to trainees on the commencement of the programme. | H29: =VLOOKUP(G29,$BA$5:$BR$14,7) -> #N/A
H30: =VLOOKUP(G30,$BA$5:$BR$14,7) -> #N/A
E31: =IF(AND(I29="",J29="",K29="",L29=""),"INPUT ERROR! Please provide remarks"," ") -> INPUT ERROR! Please provide remarks | AD31: =IF(G29="",FALSE,TRUE) -> FALSE | AE31: =IF(G29="AL5",5,0) -> 0 | AF31: =IF(G29="AL4",4,0) -> 0 | AG31: =IF(G29="AL3",3,0) -> 0 | AH31: =IF(G29="AL2",2,0) -> 0 | AI31: =IF(G29="AL1",1,0) -> 0 | AJ31: =IF(AND(K29="",L29=""),TRUE,FALSE) -> TRUE | AK31: =IF(AND(K30="",L30=""),TRUE,FALSE) -> TRUE | AM31: =COUNTIF(AE31:AI31,0) -> 5 | AN31: =IF((E31=" "),TRUE,FALSE) -> FALSE | AO31: =COUNTIF(AE31:AI31,5) -> 0 | AP31: =COUNTIF(AE31:AI31,4) -> 0 | AQ31: =COUNTIF(AE31:AI31,2) -> 0 | AR31: =COUNTIF(AE31:AI31,1) -> 0 | AT31: =IF(G30="AL5",5,0) -> 0 | AU31: =IF(G30="AL4",4,0) -> 0 | AV31: =IF(G30="AL3",3,0) -> 0 | AW31: =IF(G30="AL2",2,0) -> 0 | AX31: =IF(G30="AL1",1,0) -> 0
D32: 2.2.6 | E32: Changes to assessment methods must follow established procedures and regulations and be communicated to trainees prior to their implementation. | H32: =VLOOKUP(G32,$BA$5:$BR$14,7) -> #N/A
H33: =VLOOKUP(G33,$BA$5:$BR$14,7) -> #N/A
E34: =IF(AND(I32="",J32="",K32="",L32=""),"INPUT ERROR! Please provide remarks"," ") -> INPUT ERROR! Please provide remarks | AD34: =IF(G32="",FALSE,TRUE) -> FALSE | AE34: =IF(G32="AL5",5,0) -> 0 | AF34: =IF(G32="AL4",4,0) -> 0 | AG34: =IF(G32="AL3",3,0) -> 0 | AH34: =IF(G32="AL2",2,0) -> 0 | AI34: =IF(G32="AL1",1,0) -> 0 | AJ34: =IF(AND(K32="",L32=""),TRUE,FALSE) -> TRUE | AK34: =IF(AND(K33="",L33=""),TRUE,FALSE) -> TRUE | AM34: =COUNTIF(AE34:AI34,0) -> 5 | AN34: =IF((E34=" "),TRUE,FALSE) -> FALSE | AO34: =COUNTIF(AE34:AI34,5) -> 0 | AP34: =COUNTIF(AE34:AI34,4) -> 0 | AQ34: =COUNTIF(AE34:AI34,2) -> 0 | AR34: =COUNTIF(AE34:AI34,1) -> 0 | AT34: =IF(G33="AL5",5,0) -> 0 | AU34: =IF(G33="AL4",4,0) -> 0 | AV34: =IF(G33="AL3",3,0) -> 0 | AW34: =IF(G33="AL2",2,0) -> 0 | AX34: =IF(G33="AL1",1,0) -> 0
D36: 2.3 | E36: Management of Student Assessment | G36: Achievement Level (AL) | H36: AL Descriptor | I36: Strength | J36: Concern | K36: Opportunity For Improvement / Recommendation | L36: Steps taken to address the problem areas Actions specified by the Evaluation Panel or proposed action as specified by the department itself. Opportunity for Improvement (OFI)
D37: 2.3.1 | E37: The educational training provider must have an adequate level of autonomy in making decisions pertaining to trainee assessments within the context of the approved curriculum. | H37: =VLOOKUP(G37,$BA$5:$BR$14,8) -> #N/A
H38: =VLOOKUP(G38,$BA$5:$BR$14,8) -> #N/A
E39: =IF(AND(I37="",J37="",K37="",L37=""),"INPUT ERROR! Please provide remarks"," ") -> INPUT ERROR! Please provide remarks | AC39: =IF(G37="",FALSE,TRUE) -> FALSE | AD39: TRUE | AE39: =IF(G37="AL5",5,0) -> 0 | AF39: =IF(G37="AL4",4,0) -> 0 | AG39: =IF(G37="AL3",3,0) -> 0 | AH39: =IF(G37="AL2",2,0) -> 0 | AI39: =IF(G37="AL1",1,0) -> 0 | AJ39: =IF(AND(K37="",L37=""),TRUE,FALSE) -> TRUE | AK39: =IF(AND(K38="",L38=""),TRUE,FALSE) -> TRUE | AM39: =COUNTIF(AE39:AI39,0) -> 5 | AN39: =IF((E39=" "),TRUE,FALSE) -> FALSE | AO39: =COUNTIF(AE39:AI39,5) -> 0 | AP39: =COUNTIF(AE39:AI39,4) -> 0 | AQ39: =COUNTIF(AE39:AI39,2) -> 0 | AR39: =COUNTIF(AE39:AI39,1) -> 0 | AT39: =IF(G38="AL5",5,0) -> 0 | AU39: =IF(G38="AL4",4,0) -> 0 | AV39: =IF(G38="AL3",3,0) -> 0 | AW39: =IF(G38="AL2",2,0) -> 0 | AX39: =IF(G38="AL1",1,0) -> 0
D40: 2.3.2 | E40: The educational training provider must facilitate regular and timely feedback to trainees on performance to guide learning. | H40: =VLOOKUP(G40,$BA$5:$BR$14,9) -> #N/A
H41: =VLOOKUP(G41,$BA$5:$BR$14,9) -> #N/A
E42: =IF(AND(I40="",J40="",K40="",L40=""),"INPUT ERROR! Please provide remarks"," ") -> INPUT ERROR! Please provide remarks | AD42: =IF(G40="",FALSE,TRUE) -> FALSE | AE42: =IF(G40="AL5",5,0) -> 0 | AF42: =IF(G40="AL4",4,0) -> 0 | AG42: =IF(G40="AL3",3,0) -> 0 | AH42: =IF(G40="AL2",2,0) -> 0 | AI42: =IF(G40="AL1",1,0) -> 0 | AJ42: =IF(AND(K40="",L40=""),TRUE,FALSE) -> TRUE | AK42: =IF(AND(K41="",L41=""),TRUE,FALSE) -> TRUE | AM42: =COUNTIF(AE42:AI42,0) -> 5 | AN42: =IF((E42=" "),TRUE,FALSE) -> FALSE | AO42: =COUNTIF(AE42:AI42,5) -> 0 | AP42: =COUNTIF(AE42:AI42,4) -> 0 | AQ42: =COUNTIF(AE42:AI42,2) -> 0 | AR42: =COUNTIF(AE42:AI42,1) -> 0 | AT42: =IF(G41="AL5",5,0) -> 0 | AU42: =IF(G41="AL4",4,0) -> 0 | AV42: =IF(G41="AL3",3,0) -> 0 | AW42: =IF(G41="AL2",2,0) -> 0 | AX42: =IF(G41="AL1",1,0) -> 0
...

Sheet Sheet1 (3)
H1: Evaluation Instrument for Medical Specialist Training Programme
H2: Malaysian Medical Council (MMC)
G4: AREA 3: STUDENT SELECTION AND SUPPORT SERVICES
